BEGIN:VCALENDAR
VERSION:2.0
PRODID:-//ACA Arizona Intergroup - ECPv6.15.16//NONSGML v1.0//EN
CALSCALE:GREGORIAN
METHOD:PUBLISH
X-WR-CALNAME:ACA Arizona Intergroup
X-ORIGINAL-URL:https://aca-arizona.org
X-WR-CALDESC:Events for ACA Arizona Intergroup
REFRESH-INTERVAL;VALUE=DURATION:PT1H
X-Robots-Tag:noindex
X-PUBLISHED-TTL:PT1H
BEGIN:VTIMEZONE
TZID:America/Phoenix
BEGIN:STANDARD
TZOFFSETFROM:-0700
TZOFFSETTO:-0700
TZNAME:MST
DTSTART:20250101T000000
END:STANDARD
END:VTIMEZONE
BEGIN:VEVENT
DTSTART;TZID=America/Phoenix:20260314T110000
DTEND;TZID=America/Phoenix:20260314T160000
DTSTAMP:20260423T095926
CREATED:20260130T232824Z
LAST-MODIFIED:20260213T174828Z
UID:3208-1773486000-1773504000@aca-arizona.org
SUMMARY:Annual Spring Food & Friends Picnic 2026
DESCRIPTION:Saturday\, March 14th\nSpeaker Meeting @ 3:00 PM \n\nBring a side dish to share with friends and family\nDonate $5 for burgers (vegan option available)\, hotdogs\,\nand condiments\nBring lawn chairs or blankets\n\nIndian Steele Park\n300 E Indian School Rd\, Phoenix\, AZ 85012\n*Enter via 7th St entrance* \n \nAnd scroll down to send in the suggested donation of $5.00.\n \n \nPlease enable JavaScript in your browser to complete this form.Please enable JavaScript in your browser to complete this form.Name *Email *		\n			Stripe Send donation:\n			\n		\n		Suggested donation:  feel free to edit this amountSend securely with Stripe *Send donation  \nSponsored by ACA Arizona Intergroup #9   |   Hosted by Central Phoenix Unity Women’s Meeting
URL:https://aca-arizona.org/event/2026-picnic/
LOCATION:Indian Steele Park\, 300 E Indian School Rd\, Phoenix\, AZ\, United States
ATTACH;FMTTYPE=image/png:https://aca-arizona.org/wp-content/uploads/2026/01/SpringPicnic2026th.png
ORGANIZER;CN="Central Phoenix Unity":MAILTO:centralphxunity@gmail.com
END:VEVENT
END:VCALENDAR