BEGIN:VCALENDAR
VERSION:2.0
PRODID:-//ACA Arizona Intergroup - ECPv6.15.16//NONSGML v1.0//EN
CALSCALE:GREGORIAN
METHOD:PUBLISH
X-WR-CALNAME:ACA Arizona Intergroup
X-ORIGINAL-URL:https://aca-arizona.org
X-WR-CALDESC:Events for ACA Arizona Intergroup
REFRESH-INTERVAL;VALUE=DURATION:PT1H
X-Robots-Tag:noindex
X-PUBLISHED-TTL:PT1H
BEGIN:VTIMEZONE
TZID:America/Phoenix
BEGIN:STANDARD
TZOFFSETFROM:-0700
TZOFFSETTO:-0700
TZNAME:MST
DTSTART:20240101T000000
END:STANDARD
END:VTIMEZONE
BEGIN:VEVENT
DTSTART;VALUE=DATE:20250905
DTEND;VALUE=DATE:20250908
DTSTAMP:20260423T191803
CREATED:20250730T150314Z
LAST-MODIFIED:20250730T151141Z
UID:3031-1757030400-1757289599@aca-arizona.org
SUMMARY:ACA Arizona Retreat at Mingus Mountain
DESCRIPTION:You have permission to play! Come up for a three-day weekend of workshops\, meetings\, free-spirited fun\, fellowship\, and recovery. \nThis retreat includes two nights lodging\, five meals\, and all workshops and retreat activities. We have discounted weekend passes for members who wish to stay in Rustic cabins or use their own Tents and RVs. See the registration page for additional activities and meal options. \nVisit aca-retreat.org for more information
URL:https://aca-arizona.org/event/aca-arizona-retreat-at-mingus-mountain-2/
LOCATION:Mingus Mountain\, 8500 West Forest Svc Rd #104A\, Prescott Valley\, AZ\, 86315\, United States
CATEGORIES:recovery
ATTACH;FMTTYPE=image/jpeg:https://aca-arizona.org/wp-content/uploads/2025/07/037blur.jpg
ORGANIZER;CN="ACA Arizona Retreat Committee":MAILTO:admin@aca-retreat.org
END:VEVENT
BEGIN:VEVENT
DTSTART;TZID=America/Phoenix:20250920T100000
DTEND;TZID=America/Phoenix:20250920T140000
DTSTAMP:20260423T191803
CREATED:20250719T145529Z
LAST-MODIFIED:20250730T145631Z
UID:3016-1758362400-1758376800@aca-arizona.org
SUMMARY:The Art of Recovery Expo
DESCRIPTION:Join us as we inspire well-being\, health\, and recovery at the 20th annual CARE 2025 in Mesa on Saturday\, September 20th! Be part of Arizona’s largest recovery event – whether you’re in recovery\, supporting a loved one\, or want to learn more\, CARE welcomes you! \nLearn more at celebratetheartofrecovery.org
URL:https://aca-arizona.org/event/the-art-of-recovery-expo/
LOCATION:First United Methodist Church\, 15 E 1st Ave\, Mesa\, AZ\, 85210\, United States
CATEGORIES:outreach
ATTACH;FMTTYPE=image/png:https://aca-arizona.org/wp-content/uploads/2025/07/2025CareExpo-SaveTheDate.png
END:VEVENT
END:VCALENDAR