BEGIN:VCALENDAR
VERSION:2.0
PRODID:-//ACA Arizona Intergroup - ECPv6.15.16//NONSGML v1.0//EN
CALSCALE:GREGORIAN
METHOD:PUBLISH
X-WR-CALNAME:ACA Arizona Intergroup
X-ORIGINAL-URL:https://aca-arizona.org
X-WR-CALDESC:Events for ACA Arizona Intergroup
REFRESH-INTERVAL;VALUE=DURATION:PT1H
X-Robots-Tag:noindex
X-PUBLISHED-TTL:PT1H
BEGIN:VTIMEZONE
TZID:America/Phoenix
BEGIN:STANDARD
TZOFFSETFROM:-0700
TZOFFSETTO:-0700
TZNAME:MST
DTSTART:20240101T000000
END:STANDARD
END:VTIMEZONE
BEGIN:VEVENT
DTSTART;TZID=America/Phoenix:20250101T180000
DTEND;TZID=America/Phoenix:20250101T190000
DTSTAMP:20260424T075506
CREATED:20231214T205458Z
LAST-MODIFIED:20241120T171520Z
UID:2040-1735754400-1735758000@aca-arizona.org
SUMMARY:Burning Bowl Ceremony for Women
DESCRIPTION:Central Phoenix Unity Women’s ACA meeting is having a burning bowl ceremony to ring in the New Year. All ACA Women are welcome. \nWe’ll be letting go of the old and creating new intentions with our Inner Family and Loving Parent’s help. Our ceremony will incorporate the Laundry Lists\, along with meditation & sharing. \nFollowing the meeting\, we invite you to join us for a Potluck celebration. \nIf you have questions\, call Heather at 567-674-0428 \nDownload a flyer to share.
URL:https://aca-arizona.org/event/burning-bowl-ceremony-for-women/
LOCATION:Central Phoenix Unity\, 801 E. Camelback Rd\, Phoenix\, AZ\, United States
CATEGORIES:recovery
ATTACH;FMTTYPE=image/jpeg:https://aca-arizona.org/wp-content/uploads/Burning-Bowl-2025.png.jpg
ORGANIZER;CN="Central Phoenix Unity":MAILTO:centralphxunity@gmail.com
END:VEVENT
BEGIN:VEVENT
DTSTART;TZID=America/Phoenix:20250107T080000
DTEND;TZID=America/Phoenix:20250107T093000
DTSTAMP:20260424T075506
CREATED:20241226T194155Z
LAST-MODIFIED:20241226T200857Z
UID:2661-1736236800-1736242200@aca-arizona.org
SUMMARY:Ready Set GO!!
DESCRIPTION:RSG is a six-week introduction for newcomers (and experienced ACAs) to gain clarity and understanding of the ACA program\, the ACA 12 Steps\, and to become acquainted with their inner child. RSG prepares members to go through the 12 Step Yellow Workbook. \nA new session starts Tuesday\, January 7th at 10am Eastern time. \nClick here for more information
URL:https://aca-arizona.org/event/ready-set-go/
CATEGORIES:recovery
ATTACH;FMTTYPE=image/jpeg:https://aca-arizona.org/wp-content/uploads/RSG-Banner-2-691974460.jpg
END:VEVENT
BEGIN:VEVENT
DTSTART;TZID=America/Phoenix:20250109T080000
DTEND;TZID=America/Phoenix:20250109T093000
DTSTAMP:20260424T075506
CREATED:20241226T194312Z
LAST-MODIFIED:20241226T200839Z
UID:2665-1736409600-1736415000@aca-arizona.org
SUMMARY:Ready Set GO!!
DESCRIPTION:RSG is a six-week introduction for newcomers (and experienced ACAs) to gain clarity and understanding of the ACA program\, the ACA 12 Steps\, and to become acquainted with their inner child. RSG prepares members to go through the 12 Step Yellow Workbook. \nA new session starts Thursday\, January 9th at 10am Eastern time. \nClick here for more information
URL:https://aca-arizona.org/event/ready-set-go-2/
CATEGORIES:recovery
ATTACH;FMTTYPE=image/jpeg:https://aca-arizona.org/wp-content/uploads/RSG-Banner-2-691974460.jpg
END:VEVENT
END:VCALENDAR