BEGIN:VCALENDAR
VERSION:2.0
PRODID:-//ACA Arizona Intergroup - ECPv6.15.16//NONSGML v1.0//EN
CALSCALE:GREGORIAN
METHOD:PUBLISH
X-ORIGINAL-URL:https://aca-arizona.org
X-WR-CALDESC:Events for ACA Arizona Intergroup
REFRESH-INTERVAL;VALUE=DURATION:PT1H
X-Robots-Tag:noindex
X-PUBLISHED-TTL:PT1H
BEGIN:VTIMEZONE
TZID:America/Phoenix
BEGIN:STANDARD
TZOFFSETFROM:-0700
TZOFFSETTO:-0700
TZNAME:MST
DTSTART:20230101T000000
END:STANDARD
END:VTIMEZONE
BEGIN:VEVENT
DTSTART;TZID=America/Phoenix:20240511T100000
DTEND;TZID=America/Phoenix:20240511T120000
DTSTAMP:20260424T211032
CREATED:20240419T134657Z
LAST-MODIFIED:20240422T220522Z
UID:2305-1715421600-1715428800@aca-arizona.org
SUMMARY:Connection Through Creativity
DESCRIPTION:Expressing the Inner Child and Embodying the Inner Loving Parent\nA guided practice to connect you with your Higher Power\, Inner Loving Parent\, Inner Child and support and affirm your Inner Child’s creative expression. \nFeaturing: \n\nConnection Meditation\nTime to Create\nIntegration Meditation\nSharing Time\n\nWorkshop facilitated by Sharon O. \n–> Click here to register  <–\nNo cost to register. Suggested donation $15 at the event.  \nDownload a flyer to share with your meetings
URL:https://aca-arizona.org/event/connection-through-creativity/
LOCATION:Faith Lutheran Church\, 801 E. Camelback Rd\, Phoenix\, AZ\, United States
CATEGORIES:workshop
ATTACH;FMTTYPE=image/png:https://aca-arizona.org/wp-content/uploads/Connection-Through-Creativity-2.png
END:VEVENT
END:VCALENDAR