BEGIN:VCALENDAR
VERSION:2.0
PRODID:-//ACA Arizona Intergroup - ECPv6.15.16//NONSGML v1.0//EN
CALSCALE:GREGORIAN
METHOD:PUBLISH
X-WR-CALNAME:ACA Arizona Intergroup
X-ORIGINAL-URL:https://aca-arizona.org
X-WR-CALDESC:Events for ACA Arizona Intergroup
REFRESH-INTERVAL;VALUE=DURATION:PT1H
X-Robots-Tag:noindex
X-PUBLISHED-TTL:PT1H
BEGIN:VTIMEZONE
TZID:America/Phoenix
BEGIN:STANDARD
TZOFFSETFROM:-0700
TZOFFSETTO:-0700
TZNAME:MST
DTSTART:20220101T000000
END:STANDARD
END:VTIMEZONE
BEGIN:VEVENT
DTSTART;TZID=America/Phoenix:20251221T180000
DTEND;TZID=America/Phoenix:20251221T191500
DTSTAMP:20260423T115953
CREATED:20251117T175038Z
LAST-MODIFIED:20251119T220137Z
UID:3161-1766340000-1766344500@aca-arizona.org
SUMMARY:Holiday Caroling & Cookies with Fellows
DESCRIPTION:Celebrate the season by bringing holiday cheer and the message of ACA to the women at Crossroads addiction recovery facility while socializing with fellow travelers. Although this is a women-only facility\, both male and female fellow travelers are invited to participate in this holiday social and service event. \nYou are encouraged to wear holiday sweaters\, Santa hats\, reindeer antlers\, or any other festive apparel! \nBring cookies or other treats to share – – sign up here\nMeet: In the rear parking lot at 6pm \nFor more information contact social@arizona-aca.org or Sharon O. 480-734-1643 or Mary K. 602-422-4071 \nDownload this flyer to share at your meetings
URL:https://aca-arizona.org/event/holiday-caroling-cookies-with-fellows/
LOCATION:Crossroads for Women Rehab Center\, 244 N Extension\, Mesa\, AZ\, 85201\, United States
CATEGORIES:social
ATTACH;FMTTYPE=image/png:https://aca-arizona.org/wp-content/uploads/2025/11/Holiday-Caroling-Cookies-with-Fellows-B.png
END:VEVENT
BEGIN:VEVENT
DTSTART;TZID=America/Phoenix:20251213T180000
DTEND;TZID=America/Phoenix:20251213T210000
DTSTAMP:20260423T115953
CREATED:20251110T184416Z
LAST-MODIFIED:20251110T185213Z
UID:3147-1765648800-1765659600@aca-arizona.org
SUMMARY:ACA Holiday Party & Potluck
DESCRIPTION:Come join us in Celebrating Recovery!\nTake this opportunity to let Your Inner Child out to play!\nFamily and Friends are welcome\nMusic & Dancing \nWhite Elephant Gift Exchange Game\n(participation optional)\nTo participate\, bring a SMALL wrapped gift\, value $10-15 \nClick here to RSVP\nPrint the flyer to share at your meetings!
URL:https://aca-arizona.org/event/aca-holiday-party-potluck/
LOCATION:Streams in The Desert Lutheran Church\, 5360 E. Pima Street\, Tucson\, AZ\, United States
CATEGORIES:social
ATTACH;FMTTYPE=image/png:https://aca-arizona.org/wp-content/uploads/2025/11/Tucson-Holiday-ACA-Party-Flyer-2025-small.png
END:VEVENT
BEGIN:VEVENT
DTSTART;TZID=America/Phoenix:20251209T080000
DTEND;TZID=America/Phoenix:20251209T100000
DTSTAMP:20260423T115953
CREATED:20250918T174034Z
LAST-MODIFIED:20250927T225347Z
UID:3105-1765267200-1765274400@aca-arizona.org
SUMMARY:Desert Botanical Garden
DESCRIPTION:Connect with nature and ACA fellow travelers at the Desert Botanical Garden!\nJoin us at 8am on the following 2nd Tuesdays of the month \n\nOctober 14th\nNovember 11th\nDecember 9th.\n\nRegistration for your FREE ticket is required.\nClick here to register for the date you wish to attend \nWhen you arrive\nMeet your ACA host Deb W and fellow travelers at the Schilling Entry Arbor and Fountain at 7:45am. The fountain is between the parking lot and the admission booths so if you cross the bridge\, you have gone too far. \nHere is a picture of the Schilling Entry Arbor and Fountain \nDownload a flyer to share at your meetings
URL:https://aca-arizona.org/event/desert-botanical-garden-2/
LOCATION:Desert Botanical Garden\, 1201 N. Galvin Parkway\, Phoenix\, AZ\, 85008\, United States
CATEGORIES:social
ATTACH;FMTTYPE=image/jpeg:https://aca-arizona.org/wp-content/uploads/2025/09/DBGCommunityDay.jpg
ORGANIZER;CN="Deb W":MAILTO:deb.wood74@gmail.com
END:VEVENT
BEGIN:VEVENT
DTSTART;TZID=America/Phoenix:20251111T080000
DTEND;TZID=America/Phoenix:20251111T100000
DTSTAMP:20260423T115953
CREATED:20250918T174037Z
LAST-MODIFIED:20250927T225357Z
UID:3106-1762848000-1762855200@aca-arizona.org
SUMMARY:Desert Botanical Garden
DESCRIPTION:Connect with nature and ACA fellow travelers at the Desert Botanical Garden!\nJoin us at 8am on the following 2nd Tuesdays of the month \n\nOctober 14th\nNovember 11th\nDecember 9th.\n\nRegistration for your FREE ticket is required.\nClick here to register for the date you wish to attend \nWhen you arrive\nMeet your ACA host Deb W and fellow travelers at the Schilling Entry Arbor and Fountain at 7:45am. The fountain is between the parking lot and the admission booths so if you cross the bridge\, you have gone too far. \nHere is a picture of the Schilling Entry Arbor and Fountain \nDownload a flyer to share at your meetings
URL:https://aca-arizona.org/event/desert-botanical-garden-3/
LOCATION:Desert Botanical Garden\, 1201 N. Galvin Parkway\, Phoenix\, AZ\, 85008\, United States
CATEGORIES:social
ATTACH;FMTTYPE=image/jpeg:https://aca-arizona.org/wp-content/uploads/2025/09/DBGCommunityDay.jpg
ORGANIZER;CN="Deb W":MAILTO:deb.wood74@gmail.com
END:VEVENT
BEGIN:VEVENT
DTSTART;TZID=America/Phoenix:20251025T180000
DTEND;TZID=America/Phoenix:20251025T210000
DTSTAMP:20260423T115953
CREATED:20250924T224720Z
LAST-MODIFIED:20250927T223759Z
UID:3123-1761415200-1761426000@aca-arizona.org
SUMMARY:Halloween Costume Party and Game Night
DESCRIPTION:Bring your inner child and join your fellow travelers for spooky fun at our Halloween Costume Party and Game Night! \n\nCostumes optional but encouraged\nBring food to share\nBring a game to play if you would like\nBYOP: Bring a pumpkin to paint – paint and brushes provided\n\nSuggested donation $5 (Cash\, PayPal\, Venmo) \nDownload a flyer to share at your meetings \n \n 
URL:https://aca-arizona.org/event/halloween-costume-party-and-game-night/
LOCATION:First Evangelical Lutheran Church\, 142 N Date\, Mesa\, AZ\, 85201\, United States
CATEGORIES:social
ATTACH;FMTTYPE=image/png:https://aca-arizona.org/wp-content/uploads/2025/09/Halloween-Image-for-Website2.png
ORGANIZER;CN="Downtown Mesa Tuesday Meeting":MAILTO:social@aca-arizona.org
END:VEVENT
BEGIN:VEVENT
DTSTART;TZID=America/Phoenix:20251014T080000
DTEND;TZID=America/Phoenix:20251014T100000
DTSTAMP:20260423T115953
CREATED:20250918T173356Z
LAST-MODIFIED:20250927T225406Z
UID:3098-1760428800-1760436000@aca-arizona.org
SUMMARY:Desert Botanical Garden
DESCRIPTION:Connect with nature and ACA fellow travelers at the Desert Botanical Garden!\nJoin us at 8am on the following 2nd Tuesdays of the month \n\nOctober 14th\nNovember 11th\nDecember 9th.\n\nRegistration for your FREE ticket is required.\nClick here to register for the date you wish to attend \nWhen you arrive\nMeet your ACA host Deb W and fellow travelers at the Schilling Entry Arbor and Fountain at 7:45am. The fountain is between the parking lot and the admission booths so if you cross the bridge\, you have gone too far. \nHere is a picture of the Schilling Entry Arbor and Fountain \nDownload a flyer to share at your meetings
URL:https://aca-arizona.org/event/desert-botanical-garden/
LOCATION:Desert Botanical Garden\, 1201 N. Galvin Parkway\, Phoenix\, AZ\, 85008\, United States
CATEGORIES:social
ATTACH;FMTTYPE=image/jpeg:https://aca-arizona.org/wp-content/uploads/2025/09/DBGCommunityDay.jpg
ORGANIZER;CN="Deb W":MAILTO:deb.wood74@gmail.com
END:VEVENT
BEGIN:VEVENT
DTSTART;TZID=America/Phoenix:20250830T170000
DTEND;TZID=America/Phoenix:20250830T200000
DTSTAMP:20260423T115953
CREATED:20250730T163637Z
LAST-MODIFIED:20250731T211158Z
UID:3028-1756573200-1756584000@aca-arizona.org
SUMMARY:ACA Game Night
DESCRIPTION:Food\, Fun\, and Friends! \nCome make some fellow traveler connections\, have some fun\, and build community! \nBring some food to share and your favorite group game. \nclick to download and print the flyer for your meetings… \nWe’ll be in the upstairs Community Room.  \nIf you park in front of the church\, follow the signs and use the stairs.  To access the elevator\, park in the south dirt lot. \n 
URL:https://aca-arizona.org/event/game-night-ahwatukee/
LOCATION:Esperanza Lutheran Church\, 2601 E Thunderhill Place\, Phoenix\, AZ\, United States
CATEGORIES:social
ATTACH;FMTTYPE=image/jpeg:https://aca-arizona.org/wp-content/uploads/2025/07/Game-Night-Clip.jpg
END:VEVENT
BEGIN:VEVENT
DTSTART;TZID=America/Phoenix:20250816T160000
DTEND;TZID=America/Phoenix:20250816T190000
DTSTAMP:20260423T115953
CREATED:20250719T192500Z
LAST-MODIFIED:20250730T145638Z
UID:3022-1755360000-1755370800@aca-arizona.org
SUMMARY:ACA Potluck Picnic
DESCRIPTION:
URL:https://aca-arizona.org/event/aca-potluck-picnic/
LOCATION:Memory Park\, 1020 W Palomino Rd\, Chino Valley\, AZ\, 85323\, United States
CATEGORIES:social
ATTACH;FMTTYPE=image/png:https://aca-arizona.org/wp-content/uploads/2025/07/ACA-Picnic-Aug2025-sm.png
END:VEVENT
BEGIN:VEVENT
DTSTART;TZID=America/Phoenix:20250322T110000
DTEND;TZID=America/Phoenix:20250322T140000
DTSTAMP:20260423T115953
CREATED:20250201T012005Z
LAST-MODIFIED:20250314T004617Z
UID:2691-1742641200-1742652000@aca-arizona.org
SUMMARY:Food & Friends Picnic
DESCRIPTION:Join us at Kiwanis Park in Tempe for our second annual Food & Friends ACA Picnic!  Burgers and hotdogs will be provided\, and you’re invited to bring a dish to share.  Bring your games\, your kites\, your kids\, and join in the fun!  Be sure to register (click that button to the right). \nAnd scroll down to send in the suggested donation of $5.00. \nWe look forward to seeing you there! \n\n \n \nTap here on your phone for directions to the parking area \n\nPlease enable JavaScript in your browser to complete this form.Please enable JavaScript in your browser to complete this form.		\n			securely Email Suggested\n			\n		\n		Name *Email *Suggested donation:  feel free to edit this amountSend securely with Stripe *Send donation
URL:https://aca-arizona.org/event/food-friends-picnic/
LOCATION:Kiwanis Park (Ramadas 14 & 15)\, 5500 S Mill Ave\, Tempe\, AZ\, 85283\, United States
CATEGORIES:social
ATTACH;FMTTYPE=image/jpeg:https://aca-arizona.org/wp-content/uploads/ACA-Picnic-2025-fun.jpg
END:VEVENT
BEGIN:VEVENT
DTSTART;TZID=America/Phoenix:20241215T180000
DTEND;TZID=America/Phoenix:20241215T191500
DTSTAMP:20260423T115953
CREATED:20241122T162426Z
LAST-MODIFIED:20241122T170523Z
UID:2628-1734285600-1734290100@aca-arizona.org
SUMMARY:Holiday Caroling & Cookies
DESCRIPTION:Join us for a wonderful opportunity to socialize with fellow travelers while bringing holiday cheer and the message of ACA recovery to the women at Crossroads Rehab Center. \nAlso\, you are encouraged to wear holiday sweaters\, Santa hats\, reindeer antlers\, or any other festive apparel! \nBring snacks to share – – click here to sign up!\nMeet: In the rear parking lot at 6pm \nFor more information contact:\nSharon O 480-734-1643 or Mary K 602-422-4071 \nDownload this flyer to share with your meetings!
URL:https://aca-arizona.org/event/holiday-caroling-cookies/
LOCATION:Crossroads for Women Rehab Center\, 244 N Extension\, Mesa\, AZ\, 85201\, United States
CATEGORIES:social
ATTACH;FMTTYPE=image/jpeg:https://aca-arizona.org/wp-content/uploads/Crossroads-Holiday2024.jpg
END:VEVENT
BEGIN:VEVENT
DTSTART;TZID=America/Phoenix:20241019T150000
DTEND;TZID=America/Phoenix:20241019T190000
DTSTAMP:20260423T115953
CREATED:20240925T161954Z
LAST-MODIFIED:20240926T174957Z
UID:2553-1729350000-1729364400@aca-arizona.org
SUMMARY:Fall Festival at Vertuccio Farms
DESCRIPTION:Hello friends and fellow travelers!\nBring your inner child out to play with your fellow travelers on Saturday\, October 19th at the Fall Festival at Vertuccio Farms in Mesa! \nCorn Maze • Petting Zoo • Carnival Games • Pumpkin Patch • Ropes Course • Super Mega Slide • Mini Golf • Food Trucks • and more! \nWe’ll meet at the entrance to the farm and buy our tickets together. Standard ticket price is $16 per person. For groups of 30 or more tickets are $11. \nOther discounts available. Only one discount applies per person. Discounts can only be bought at the gate. \n\n$2 off with non-perishable food bank donations any day\nMilitary Active/Retired and First Responders (Fire\, Police\, Border Patrol\, Paramedics) $3 off any day with ID\nSeniors $2 off with ID any day\n\n*This is a fellow traveler only event for adults \nHope to see you out at the farm for the festival for social connections and fun! \nPrint this flyer to share at your meetings!
URL:https://aca-arizona.org/event/fall-festival-at-vertuccio-farms/
LOCATION:Vertuccio Farms\, Mesa\, AZ\, United States
CATEGORIES:social
ATTACH;FMTTYPE=image/jpeg:https://aca-arizona.org/wp-content/uploads/ACA-Fall-Festival-2024.jpg
ORGANIZER;CN="Downtown Mesa Tuesday Meeting":MAILTO:social@aca-arizona.org
END:VEVENT
BEGIN:VEVENT
DTSTART;VALUE=DATE:20240622
DTEND;VALUE=DATE:20240624
DTSTAMP:20260423T115953
CREATED:20240611T154920Z
LAST-MODIFIED:20240621T162135Z
UID:2393-1719014400-1719187199@aca-arizona.org
SUMMARY:Inside Out 2 - - Watch Party!
DESCRIPTION:Saturday\, June 22 and Sunday\, June 23\nWe are organizing our next Arizona ACA Intergroup social event and it will be happening across the state and on Zoom! \nWatch Parties\nOn Saturday and Sunday (June 22-23)\, we will have viewing parties of Inside Out 2 in various cinemas and meet for dinner afterwards to socialize\, make fellow traveler connections\, and share our experience of the movie. \nZoom Room\nOn Sunday\, June 23rd\, we will open a Zoom room for those unable to meet in-person or who would like more connection to share and discuss the film. \nDownload a flyer to share at your meetings!\n\nEvents on Saturday\, June 22\n\nCentral Phoenix: 2pm at AMC Dine-In Esplanade 14 (dinner at Café Zupa’s)\nEast Valley: 11am** at AMC Superstition East 12 (dinner at Panera Bread)\nWest Valley:  2:45pm at Harkins Theatres Park West 14 (dinner at Wild Flower)\nPrescott Valley: 3:45pm at Harkins Theatres Prescott Valley 14 (dinner at COLT Grill\, BBQ & Spirits)\nAhwatukee:  3:00pm at AMC Ahwatukee 24 (dinner at On the Border Mexican Grill)\n\nEvents on Sunday\, June 23\n\nNorth Valley: 2pm at AMC Dine-In Esplanade 14 (dinner at The MacIntosh)\nZoom Room: 2pm\, for anyone unable to meet in-person or who would like more connection to share and discuss the film.\n\n** East Valley was incorrectly listed as 12pm.  \n\nRegister today!\nSign up so we know you’re coming.  This is not a ticket purchase.  You’ll be contacted by the event host about how tickets are arranged for your group. \n\n\nHost a local screening\nDon’t see your city on the list?  To host a screening in your area\, please contact Sharon O. at social@aca-arizona.org \nHere is what we ask of each host: \n\nChoose a local cinema and showing time\nChoose the restaurant to meet at afterwards.\nProvide a contact name and email for fellow travelers in your area to reach you.\n\nIntergroup will send you a list of people who have signed up for your screening. \nEach host can determine how they would like to handle getting tickets. Some may choose to collect the funds and purchase seats together\, but this is not required. \nHosts are encouraged to share the information at meetings and to invite local fellow travelers. \nArizona ACA Intergroup will make flyers and send the details\, including the hosts name and contact information\, to the ACA meeting reps via email\, and also promote the event on Arizona ACA related Facebook pages. (Contact information for hosts will not be listed on Facebook) \n\n 
URL:https://aca-arizona.org/event/inside-out-2-watch-party/
LOCATION:AZ
CATEGORIES:social
ATTACH;FMTTYPE=image/jpeg:https://aca-arizona.org/wp-content/uploads/inside-out.jpg
END:VEVENT
BEGIN:VEVENT
DTSTART;TZID=America/Phoenix:20240218T173000
DTEND;TZID=America/Phoenix:20240218T200000
DTSTAMP:20260423T115953
CREATED:20240127T004244Z
LAST-MODIFIED:20240127T004407Z
UID:2095-1708277400-1708286400@aca-arizona.org
SUMMARY:A Valentine's Date with your Inner Child!
DESCRIPTION:Bring your favorite stuffed animal and picture book from childhood\, something tasty that your inner child would like to eat and share\, and your inner child’s creativity. \nMunch & Mingle – Make some connections with fellow travelers while you enjoy the tasty food drink you and others have brought to share. \nStory Circle – We’ll embody our inner children as we read to one another. Read the book you brought or ask a fellow traveler to read it. If you would like to you can introduce your stuffed animal and share its history or why it is your favorite. \nValentine’s – After a brief meditation to connect with Higher Power\, Inner Loving Parent and Inner Child\, your Inner Child can make a Valentine for Inner Loving Parent and/or your Inner Loving Parent can make one for your Inner Child. All supplies provided. \nSuggested donation $5
URL:https://aca-arizona.org/event/a-valentines-date-with-your-inner-child/
LOCATION:First Evangelical Lutheran Church\, 142 N Date\, Mesa\, AZ\, 85201\, United States
CATEGORIES:social
ATTACH;FMTTYPE=image/jpeg:https://aca-arizona.org/wp-content/uploads/Valentine-Thumbnail.jpg
ORGANIZER;CN="Downtown Mesa Tuesday Meeting":MAILTO:social@aca-arizona.org
END:VEVENT
BEGIN:VEVENT
DTSTART;TZID=America/Phoenix:20240105T183000
DTEND;TZID=America/Phoenix:20240105T220000
DTSTAMP:20260423T115953
CREATED:20231118T194651Z
LAST-MODIFIED:20231118T202436Z
UID:1969-1704479400-1704492000@aca-arizona.org
SUMMARY:Fireside Get-Together
DESCRIPTION:Have some fun around the fire pit\, and make some connections with your fellow travelers!\nWhat we’ll provide:  Bottled water\, hot chocolate mix/tea\, popcorn\, stuff to make smores \nWhat to bring: Folding chair\, blanket\, musical instrument \nDonations: $5 suggested \nNE corner Jacinto Circle & Emerson – Parking on cul de sac and/or down the street on west side of Emerson \nDownload a flyer to print and share \nWalk hosted by the Tempe “Hope for Tomorrow” Thursday Nite Meeting
URL:https://aca-arizona.org/event/fireside-get-together/
LOCATION:AZ
CATEGORIES:social
ATTACH;FMTTYPE=image/png:https://aca-arizona.org/wp-content/uploads/Fireside-Get-together.png
END:VEVENT
BEGIN:VEVENT
DTSTART;TZID=America/Phoenix:20231202T080000
DTEND;TZID=America/Phoenix:20231202T120000
DTSTAMP:20260423T115953
CREATED:20231118T191031Z
LAST-MODIFIED:20231118T215805Z
UID:1953-1701504000-1701518400@aca-arizona.org
SUMMARY:Tempe Town Lake Walk
DESCRIPTION:Come out\, have a healthy walk\, and make some connections with your fellow travelers!\nGather starting @ 8:00 AM; walk starts @ 8:30 AM\nStart/stop: Tempe Beach Park\, near west parking lot \nParking: due west of Tempe Beach Park; additional parking south on Farmer Ave; or take the Light Rail to Mill Ave.\, then north to Tempe Beach Park. \nMain route: Tempe Beach Park/south bank/Rural Rd./north bank/ Priest Dr./south bank/Tempe Beach Park (5.5 mi) – approx. 2 hours \nBONUS: R/T hike: Tempe Beach Park/Tempe Butte (“A” Mountain) R/T (.8 mi) – approx. 30 min. \nWhat to bring: Hats\, water\, sunscreen\, comfortable walking shoes (closed toes recommended).\nSnack bars and bottled water will be provided. \nDownload a flyer to print and share \nWalk hosted by the Tempe “Hope for Tomorrow” Thursday Nite Meeting
URL:https://aca-arizona.org/event/tempe-town-lake-walk/
LOCATION:Tempe Beach Park\, 80 W Rio Salado Pkwy\, Tempe\, AZ\, United States
CATEGORIES:social
ATTACH;FMTTYPE=image/png:https://aca-arizona.org/wp-content/uploads/Tempe-Town-Lake-Walk.png
END:VEVENT
END:VCALENDAR