BEGIN:VCALENDAR
VERSION:2.0
PRODID:-//ACA Arizona Intergroup - ECPv6.15.16//NONSGML v1.0//EN
CALSCALE:GREGORIAN
METHOD:PUBLISH
X-WR-CALNAME:ACA Arizona Intergroup
X-ORIGINAL-URL:https://aca-arizona.org
X-WR-CALDESC:Events for ACA Arizona Intergroup
REFRESH-INTERVAL;VALUE=DURATION:PT1H
X-Robots-Tag:noindex
X-PUBLISHED-TTL:PT1H
BEGIN:VTIMEZONE
TZID:America/Phoenix
BEGIN:STANDARD
TZOFFSETFROM:-0700
TZOFFSETTO:-0700
TZNAME:MST
DTSTART:20240101T000000
END:STANDARD
END:VTIMEZONE
BEGIN:VEVENT
DTSTART;TZID=America/Phoenix:20251209T080000
DTEND;TZID=America/Phoenix:20251209T100000
DTSTAMP:20260423T180149
CREATED:20250918T174034Z
LAST-MODIFIED:20250927T225347Z
UID:3105-1765267200-1765274400@aca-arizona.org
SUMMARY:Desert Botanical Garden
DESCRIPTION:Connect with nature and ACA fellow travelers at the Desert Botanical Garden!\nJoin us at 8am on the following 2nd Tuesdays of the month \n\nOctober 14th\nNovember 11th\nDecember 9th.\n\nRegistration for your FREE ticket is required.\nClick here to register for the date you wish to attend \nWhen you arrive\nMeet your ACA host Deb W and fellow travelers at the Schilling Entry Arbor and Fountain at 7:45am. The fountain is between the parking lot and the admission booths so if you cross the bridge\, you have gone too far. \nHere is a picture of the Schilling Entry Arbor and Fountain \nDownload a flyer to share at your meetings
URL:https://aca-arizona.org/event/desert-botanical-garden-2/
LOCATION:Desert Botanical Garden\, 1201 N. Galvin Parkway\, Phoenix\, AZ\, 85008\, United States
CATEGORIES:social
ATTACH;FMTTYPE=image/jpeg:https://aca-arizona.org/wp-content/uploads/2025/09/DBGCommunityDay.jpg
ORGANIZER;CN="Deb W":MAILTO:deb.wood74@gmail.com
END:VEVENT
BEGIN:VEVENT
DTSTART;TZID=America/Phoenix:20251213T180000
DTEND;TZID=America/Phoenix:20251213T210000
DTSTAMP:20260423T180149
CREATED:20251110T184416Z
LAST-MODIFIED:20251110T185213Z
UID:3147-1765648800-1765659600@aca-arizona.org
SUMMARY:ACA Holiday Party & Potluck
DESCRIPTION:Come join us in Celebrating Recovery!\nTake this opportunity to let Your Inner Child out to play!\nFamily and Friends are welcome\nMusic & Dancing \nWhite Elephant Gift Exchange Game\n(participation optional)\nTo participate\, bring a SMALL wrapped gift\, value $10-15 \nClick here to RSVP\nPrint the flyer to share at your meetings!
URL:https://aca-arizona.org/event/aca-holiday-party-potluck/
LOCATION:Streams in The Desert Lutheran Church\, 5360 E. Pima Street\, Tucson\, AZ\, United States
CATEGORIES:social
ATTACH;FMTTYPE=image/png:https://aca-arizona.org/wp-content/uploads/2025/11/Tucson-Holiday-ACA-Party-Flyer-2025-small.png
END:VEVENT
BEGIN:VEVENT
DTSTART;TZID=America/Phoenix:20251221T180000
DTEND;TZID=America/Phoenix:20251221T191500
DTSTAMP:20260423T180149
CREATED:20251117T175038Z
LAST-MODIFIED:20251119T220137Z
UID:3161-1766340000-1766344500@aca-arizona.org
SUMMARY:Holiday Caroling & Cookies with Fellows
DESCRIPTION:Celebrate the season by bringing holiday cheer and the message of ACA to the women at Crossroads addiction recovery facility while socializing with fellow travelers. Although this is a women-only facility\, both male and female fellow travelers are invited to participate in this holiday social and service event. \nYou are encouraged to wear holiday sweaters\, Santa hats\, reindeer antlers\, or any other festive apparel! \nBring cookies or other treats to share – – sign up here\nMeet: In the rear parking lot at 6pm \nFor more information contact social@arizona-aca.org or Sharon O. 480-734-1643 or Mary K. 602-422-4071 \nDownload this flyer to share at your meetings
URL:https://aca-arizona.org/event/holiday-caroling-cookies-with-fellows/
LOCATION:Crossroads for Women Rehab Center\, 244 N Extension\, Mesa\, AZ\, 85201\, United States
CATEGORIES:social
ATTACH;FMTTYPE=image/png:https://aca-arizona.org/wp-content/uploads/2025/11/Holiday-Caroling-Cookies-with-Fellows-B.png
END:VEVENT
END:VCALENDAR