BEGIN:VCALENDAR
VERSION:2.0
PRODID:-//ACA Arizona Intergroup - ECPv6.15.16//NONSGML v1.0//EN
CALSCALE:GREGORIAN
METHOD:PUBLISH
X-WR-CALNAME:ACA Arizona Intergroup
X-ORIGINAL-URL:https://aca-arizona.org
X-WR-CALDESC:Events for ACA Arizona Intergroup
REFRESH-INTERVAL;VALUE=DURATION:PT1H
X-Robots-Tag:noindex
X-PUBLISHED-TTL:PT1H
BEGIN:VTIMEZONE
TZID:America/Phoenix
BEGIN:STANDARD
TZOFFSETFROM:-0700
TZOFFSETTO:-0700
TZNAME:MST
DTSTART:20250101T000000
END:STANDARD
END:VTIMEZONE
BEGIN:VEVENT
DTSTART;TZID=America/Phoenix:20260124T150000
DTEND;TZID=America/Phoenix:20260124T180000
DTSTAMP:20260423T163643
CREATED:20260108T181729Z
LAST-MODIFIED:20260109T221639Z
UID:3193-1769266800-1769277600@aca-arizona.org
SUMMARY:Recovery Revolution: 12 Stepper Speaker Symposium
DESCRIPTION:Please join us for Recovery Revolution\, a 12-Step Speaker Symposium uniting voices from Adult Children of Alcoholics and Dysfunctional Families (ACA)\, Alcoholics Anonymous (AA)\, and Codependents Anonymous (CoDA). \nCentered on the ACA community\, this gathering offers the experience\, strength\, and hope of fellow travelers through 30-minute speaker shares with 10-minute breaks\, opening readings from ACA literature\, and Speaker Panel Q&A. We will conclude with the ACA Promises and the ACA Serenity Prayer. \nLight refreshments will be served. \nDownload and print this flyer to share at your meetings.
URL:https://aca-arizona.org/event/recovery-revolution-12-stepper-speaker-symposium/
LOCATION:Private: Valley Alano (Fredrickson Hall)\, 2310 N 56th St\, Phoenix\, AZ\, 85008\, United States
CATEGORIES:recovery
ATTACH;FMTTYPE=image/png:https://aca-arizona.org/wp-content/uploads/2026/01/RecoveryRevolutionJan2026.png
END:VEVENT
END:VCALENDAR