BEGIN:VCALENDAR
VERSION:2.0
PRODID:-//ACA Arizona Intergroup - ECPv6.15.16//NONSGML v1.0//EN
CALSCALE:GREGORIAN
METHOD:PUBLISH
X-ORIGINAL-URL:https://aca-arizona.org
X-WR-CALDESC:Events for ACA Arizona Intergroup
REFRESH-INTERVAL;VALUE=DURATION:PT1H
X-Robots-Tag:noindex
X-PUBLISHED-TTL:PT1H
BEGIN:VTIMEZONE
TZID:America/Phoenix
BEGIN:STANDARD
TZOFFSETFROM:-0700
TZOFFSETTO:-0700
TZNAME:MST
DTSTART:20250101T000000
END:STANDARD
END:VTIMEZONE
BEGIN:VEVENT
DTSTART;TZID=America/Phoenix:20260516T080000
DTEND;TZID=America/Phoenix:20260516T090000
DTSTAMP:20260423T130031
CREATED:20231118T220414Z
LAST-MODIFIED:20260421T165119Z
UID:2004-1778918400-1778922000@aca-arizona.org
SUMMARY:ACA Arizona Intergroup Meeting
DESCRIPTION:Intergroup reps meet once a month to share their experience\, strength\, and hope from their respective home groups.  Join us every third Saturday of the month\, at 8am AZ time\, on Zoom! \nWhat is an Intergroup Rep?  We’re glad you asked. \nIf you’re not already on the distribution list for this meeting\, please reach out and let us know that you want to attend.
URL:https://aca-arizona.org/event/aca-arizona-intergroup-meeting/
LOCATION:Zoom
CATEGORIES:intergroup
ATTACH;FMTTYPE=image/jpeg:https://aca-arizona.org/wp-content/uploads/video-conference-6127000_1280.jpg
ORGANIZER;CN="Janet B (Chair)":MAILTO:chair@aca-arizona.org
END:VEVENT
END:VCALENDAR